BEGIN:VCALENDAR
PRODID:-//Microsoft Corporation//Outlook 14.0 MIMEDIR//EN
VERSION:2.0
METHOD:PUBLISH
BEGIN:VEVENT
UID:d5d8a964a92b41908dbc5c390e3bf95fwww.culturecdq.ca
DTSTAMP:20260421T234210Z
DTSTART:2026-05-02T13:00:0000Z
DTEND:2026-05-02T15:00:0000Z
SUMMARY:Petite révolution
LOCATION:Dans le grand cercle de gravier près de la vélo gare.
DESCRIPTION:Le collectif Bonneau-Knight vous convie à une manoeuvre dans l’espace public qui interroge la notion de « tourner en rond » sous l’invitation du Centre d’art Jacques-et-Michel-Auger afin de célébrer à nouveau son 10e anniversaire.
END:VEVENT
END:VCALENDAR