BEGIN:VCALENDAR
PRODID:-//Microsoft Corporation//Outlook 14.0 MIMEDIR//EN
VERSION:2.0
METHOD:PUBLISH
BEGIN:VEVENT
UID:c17c752cf6134b5d94174619109ee2bbwww.culturecdq.ca
DTSTAMP:20260421T234022Z
DTSTART:2026-04-24T09:00:0000Z
DTEND:2026-04-24T12:00:0000Z
SUMMARY:L’autolouange : une pratique de la joie
LOCATION:Bibliothèque Madeleine Bélanger
DESCRIPTION:C’est un art guérisseur qui donne  à voir la vie dans tous ces états. Loin du narcissisme, de l’autopromotion et de la forfanterie il ne sélectionne pas seulement le positif mais nous enjoint d’accueillir la vie dans tous ces états.  Tout amplifier. Tout contempler.

Originaire d’Afrique, le kassala c’est louer ses ancêtres et prendre conscience qu’ils ont du exister pour que je sois. Pour proclamer son propre kassala il faudrait ensuite rassembler tout les morceaux en une longue proclamation qui aborde les différentes facettes du « je » et tous ses liens. C’est un chant de mémoire.

L’autolouange doit rester gratuite, il ne faut aucune visée à des fins littéraire, thérapeutique ou autre. Il s’agit d’accueillir.

END:VEVENT
END:VCALENDAR