BEGIN:VCALENDAR
PRODID:-//Microsoft Corporation//Outlook 14.0 MIMEDIR//EN
VERSION:2.0
METHOD:PUBLISH
BEGIN:VEVENT
UID:2736e0a15ebf10f11329378e8221f1b5www.culturecdq.ca
DTSTAMP:20260424T020432Z
DTSTART:2026-05-23T10:00:0000Z
DTEND:2026-05-23T18:00:0000Z
SUMMARY:LE BAZAR DU VERRE
LOCATION:181 de la Seigneurie, Saint-Lucien, Québec
DESCRIPTION:Un rendez-vous pour les artisan·e·s verrier·ère·s, vitraillistes, artistes du verre, souffleurs, mosaïstes, créateur, hobbyistes passionné·e·s et amoureux·ses du verre sous toutes ses formes.
END:VEVENT
END:VCALENDAR